BEGIN:VCALENDAR
PRODID:-//eluceo/ical//2.0/EN
VERSION:2.0
CALSCALE:GREGORIAN
BEGIN:VEVENT
UID:hey.bayern.694152.6549675
DTSTAMP:20260419T154624Z
SUMMARY:10. Literaturtage Steyr (22.–24. Mai 2026)
DTSTART;TZID=Europe/Berlin:20260523T103000
DTEND;TZID=Europe/Berlin:20260523T220000
LOCATION:Altstadt 1\, 4400 Steyr\, Österreich
GEO:48.039005;14.419128
X-APPLE-STRUCTURED-LOCATION;VALUE=URI;X-ADDRESS=Altstadt 1\, 4400 Steyr\, 
 Österreich;X-APPLE-RADIUS=49;X-TITLE=:geo:48.039005,14.419128
URL;VALUE=URI:https://hey.at/events/694152
END:VEVENT
END:VCALENDAR
