BEGIN:VCALENDAR
PRODID:-//eluceo/ical//2.0/EN
VERSION:2.0
CALSCALE:GREGORIAN
BEGIN:VEVENT
UID:hey.bayern.694164.6550075
DTSTAMP:20260419T172719Z
SUMMARY:Austrian Pinball Festival
DTSTART;TZID=Europe/Berlin:20260517T090000
DTEND;TZID=Europe/Berlin:20260517T235959
LOCATION:Robert Kunz-Straße 2b\, 4840 Vöcklabruck\, Österreich
GEO:48.007859;13.646038
X-APPLE-STRUCTURED-LOCATION;VALUE=URI;X-ADDRESS=Robert Kunz-Straße 2b\, 48
 40 Vöcklabruck\, Österreich;X-APPLE-RADIUS=49;X-TITLE=:geo:48.007859,13.
 646038
URL;VALUE=URI:https://hey.at/events/694164
END:VEVENT
END:VCALENDAR
