BEGIN:VCALENDAR
PRODID:-//eluceo/ical//2.0/EN
VERSION:2.0
CALSCALE:GREGORIAN
BEGIN:VEVENT
UID:hey.bayern.694191.6550340
DTSTAMP:20260419T154624Z
SUMMARY:Die Landesmusikschule Steyr präsentiert: Verschwörungen & Intrige
 n
DTSTART;TZID=Europe/Berlin:20260528T180000
DTEND;TZID=Europe/Berlin:20260528T193000
LOCATION:Christkindlweg 69\, 4400 Steyr\, Österreich
GEO:48.039005;14.419128
X-APPLE-STRUCTURED-LOCATION;VALUE=URI;X-ADDRESS=Christkindlweg 69\, 4400 St
 eyr\, Österreich;X-APPLE-RADIUS=49;X-TITLE=:geo:48.039005,14.419128
URL;VALUE=URI:https://hey.at/events/694191
END:VEVENT
END:VCALENDAR
