BEGIN:VCALENDAR
PRODID:-//eluceo/ical//2.0/EN
VERSION:2.0
CALSCALE:GREGORIAN
BEGIN:VEVENT
UID:hey.bayern.694197.6550346
DTSTAMP:20260419T153521Z
SUMMARY:Dirty Sound Magnet
DTSTART;TZID=Europe/Berlin:20260502T210000
DTEND;TZID=Europe/Berlin:20260502T230000
LOCATION:Gaswerkgasse 2\, 4400 Steyr\, Österreich
GEO:48.039005;14.419128
X-APPLE-STRUCTURED-LOCATION;VALUE=URI;X-ADDRESS=Gaswerkgasse 2\, 4400 Steyr
 \, Österreich;X-APPLE-RADIUS=49;X-TITLE=:geo:48.039005,14.419128
URL;VALUE=URI:https://hey.at/events/694197
END:VEVENT
END:VCALENDAR
