BEGIN:VCALENDAR
PRODID:-//eluceo/ical//2.0/EN
VERSION:2.0
CALSCALE:GREGORIAN
BEGIN:VEVENT
UID:hey.bayern.694198.6550348
DTSTAMP:20260419T153525Z
SUMMARY:E-Bike-Radtour zu Gedenkorten des Bauernaufstands von 1626
DTSTART;TZID=Europe/Berlin:20260829T090000
DTEND;TZID=Europe/Berlin:20260829T180000
LOCATION:Kirchengasse\, 4675 Weibern\, Österreich
GEO:48.184830;13.702460
X-APPLE-STRUCTURED-LOCATION;VALUE=URI;X-ADDRESS=Kirchengasse\, 4675 Weibern
 \, Österreich;X-APPLE-RADIUS=49;X-TITLE=:geo:48.184830,13.702460
URL;VALUE=URI:https://hey.at/events/694198
END:VEVENT
END:VCALENDAR
