BEGIN:VCALENDAR
PRODID:-//eluceo/ical//2.0/EN
VERSION:2.0
CALSCALE:GREGORIAN
BEGIN:VEVENT
UID:hey.bayern.694200.6550350
DTSTAMP:20260419T172735Z
SUMMARY:EKiZ Braunau: Märchen-Klangschalenreise für Kinder
DTSTART;TZID=Europe/Berlin:20260424T150000
DTEND;TZID=Europe/Berlin:20260424T163000
LOCATION:Mozartstraße 37\, 5280 Braunau am Inn\, Österreich
GEO:48.247964;13.040851
X-APPLE-STRUCTURED-LOCATION;VALUE=URI;X-ADDRESS=Mozartstraße 37\, 5280 Bra
 unau am Inn\, Österreich;X-APPLE-RADIUS=49;X-TITLE=:geo:48.247964,13.0408
 51
URL;VALUE=URI:https://hey.at/events/694200
END:VEVENT
END:VCALENDAR
