BEGIN:VCALENDAR
PRODID:-//eluceo/ical//2.0/EN
VERSION:2.0
CALSCALE:GREGORIAN
BEGIN:VEVENT
UID:hey.bayern.694213.6550431
DTSTAMP:20260419T142714Z
SUMMARY:Familien-Radwandertag mit Sommerfest
DTSTART;TZID=Europe/Berlin:20260621T100000
DTEND;TZID=Europe/Berlin:20260621T235900
LOCATION:St. Peter 39a\, 5280 St. Peter am Hart\, Österreich
GEO:47.058786;15.472559
X-APPLE-STRUCTURED-LOCATION;VALUE=URI;X-ADDRESS=St. Peter 39a\, 5280 St. Pe
 ter am Hart\, Österreich;X-APPLE-RADIUS=49;X-TITLE=:geo:47.058786,15.4725
 59
URL;VALUE=URI:https://hey.at/events/694213
END:VEVENT
END:VCALENDAR
