BEGIN:VCALENDAR
PRODID:-//eluceo/ical//2.0/EN
VERSION:2.0
CALSCALE:GREGORIAN
BEGIN:VEVENT
UID:hey.bayern.694219.6550437
DTSTAMP:20260419T153517Z
SUMMARY:Fellowsoph & Edi Flaneur - Funk und Fernsehen | MoCess & Chrisfader
  - Neie Ufer
DTSTART;TZID=Europe/Berlin:20260515T220000
DTEND;TZID=Europe/Berlin:20260516T010000
LOCATION:Gaswerkgasse 2\, 4400 Steyr\, Österreich
GEO:48.039005;14.419128
X-APPLE-STRUCTURED-LOCATION;VALUE=URI;X-ADDRESS=Gaswerkgasse 2\, 4400 Steyr
 \, Österreich;X-APPLE-RADIUS=49;X-TITLE=:geo:48.039005,14.419128
URL;VALUE=URI:https://hey.at/events/694219
END:VEVENT
END:VCALENDAR
