BEGIN:VCALENDAR
PRODID:-//eluceo/ical//2.0/EN
VERSION:2.0
CALSCALE:GREGORIAN
BEGIN:VEVENT
UID:hey.bayern.694227.6550458
DTSTAMP:20260419T171551Z
SUMMARY:Frühschoppen D´Musibande
DTSTART;TZID=Europe/Berlin:20260802T110000
DTEND;TZID=Europe/Berlin:20260802T235900
LOCATION:6460 Imst\, Österreich
GEO:47.249880;10.693610
X-APPLE-STRUCTURED-LOCATION;VALUE=URI;X-ADDRESS=6460 Imst\, Österreich;X-A
 PPLE-RADIUS=49;X-TITLE=:geo:47.249880,10.693610
URL;VALUE=URI:https://hey.at/events/694227
END:VEVENT
END:VCALENDAR
