BEGIN:VCALENDAR
PRODID:-//eluceo/ical//2.0/EN
VERSION:2.0
CALSCALE:GREGORIAN
BEGIN:VEVENT
UID:hey.bayern.694246.6550544
DTSTAMP:20260420T043939Z
SUMMARY:Hoffest beim Hinterjudendorfbauer | Feriendorf Ponyhof
DTSTART;TZID=Europe/Berlin:20261003T110000
DTEND;TZID=Europe/Berlin:20261003T235959
LOCATION:Zeller Fusch 151\, 5672 Fusch an der Großglocknerstraße\, Öster
 reich
URL;VALUE=URI:https://hey.at/events/694246
END:VEVENT
END:VCALENDAR
