BEGIN:VCALENDAR
PRODID:-//eluceo/ical//2.0/EN
VERSION:2.0
CALSCALE:GREGORIAN
BEGIN:VEVENT
UID:hey.bayern.694256.6550584
DTSTAMP:20260419T181346Z
SUMMARY:Jubiläumskonzert des Gemischten Chores Malta
DTSTART;TZID=Europe/Berlin:20260530T200000
DTEND;TZID=Europe/Berlin:20260530T220000
URL;VALUE=URI:https://hey.at/events/694256
END:VEVENT
END:VCALENDAR
