BEGIN:VCALENDAR
PRODID:-//eluceo/ical//2.0/EN
VERSION:2.0
CALSCALE:GREGORIAN
BEGIN:VEVENT
UID:hey.bayern.694259.6550588
DTSTAMP:20260420T025454Z
SUMMARY:Kaprun Sale
DTSTART;TZID=Europe/Berlin:20260822T090000
DTEND;TZID=Europe/Berlin:20260831T090000
LOCATION:Nikolaus-Gassner-Straße 4\, 5710 Kaprun\, Österreich
GEO:47.270861;12.757804
X-APPLE-STRUCTURED-LOCATION;VALUE=URI;X-ADDRESS=Nikolaus-Gassner-Straße 4\
 , 5710 Kaprun\, Österreich;X-APPLE-RADIUS=49;X-TITLE=:geo:47.270861,12.75
 7804
URL;VALUE=URI:https://hey.at/events/694259
END:VEVENT
END:VCALENDAR
