BEGIN:VCALENDAR
PRODID:-//eluceo/ical//2.0/EN
VERSION:2.0
CALSCALE:GREGORIAN
BEGIN:VEVENT
UID:hey.bayern.694260.6550602
DTSTAMP:20260419T131922Z
SUMMARY:Kegelweltmeisterschaft
DTSTART;TZID=Europe/Berlin:20260601T060000
DTEND;TZID=Europe/Berlin:20260601T130000
LOCATION:6135 Stans\, Österreich
URL;VALUE=URI:https://hey.at/events/694260
END:VEVENT
END:VCALENDAR
