BEGIN:VCALENDAR
PRODID:-//eluceo/ical//2.0/EN
VERSION:2.0
CALSCALE:GREGORIAN
BEGIN:VEVENT
UID:hey.bayern.694261.6550609
DTSTAMP:20260420T002021Z
SUMMARY:Kids Bike Race
DTSTART;TZID=Europe/Berlin:20260613T080000
DTEND;TZID=Europe/Berlin:20260613T235959
LOCATION:Flachauer Straße 163\, 5542 Flachau\, Österreich
GEO:47.348660;13.392562
X-APPLE-STRUCTURED-LOCATION;VALUE=URI;X-ADDRESS=Flachauer Straße 163\, 554
 2 Flachau\, Österreich;X-APPLE-RADIUS=49;X-TITLE=:geo:47.348660,13.392562
URL;VALUE=URI:https://hey.at/events/694261
END:VEVENT
END:VCALENDAR
