BEGIN:VCALENDAR
PRODID:-//eluceo/ical//2.0/EN
VERSION:2.0
CALSCALE:GREGORIAN
BEGIN:VEVENT
UID:hey.bayern.694278.6550650
DTSTAMP:20260419T181331Z
SUMMARY:Kräuter-Cocktails & Mocktails
DTSTART;TZID=Europe/Berlin:20260709T150000
DTEND;TZID=Europe/Berlin:20260709T235900
LOCATION:6655 Steeg\, Österreich
URL;VALUE=URI:https://hey.at/events/694278
END:VEVENT
END:VCALENDAR
