BEGIN:VCALENDAR
PRODID:-//eluceo/ical//2.0/EN
VERSION:2.0
CALSCALE:GREGORIAN
BEGIN:VEVENT
UID:hey.bayern.694291.6550681
DTSTAMP:20260419T164427Z
SUMMARY:Lesung mit Manfred Baumann "Salzburgwut"
DTSTART;TZID=Europe/Berlin:20260504T190000
DTEND;TZID=Europe/Berlin:20260504T235959
LOCATION:Halleiner Landesstrasse 116\, 5412 Puch bei Hallein\, Österreich
URL;VALUE=URI:https://hey.at/events/694291
END:VEVENT
END:VCALENDAR
