BEGIN:VCALENDAR
PRODID:-//eluceo/ical//2.0/EN
VERSION:2.0
CALSCALE:GREGORIAN
BEGIN:VEVENT
UID:hey.bayern.694312.6550798
DTSTAMP:20260419T204757Z
SUMMARY:Musikalisches Herzklopfen
DTSTART;TZID=Europe/Berlin:20260520T190000
DTEND;TZID=Europe/Berlin:20260520T235900
LOCATION:Kirchenplatz 2\, 4643 Pettenbach\, Österreich
GEO:47.979850;14.010130
X-APPLE-STRUCTURED-LOCATION;VALUE=URI;X-ADDRESS=Kirchenplatz 2\, 4643 Pette
 nbach\, Österreich;X-APPLE-RADIUS=49;X-TITLE=:geo:47.979850,14.010130
URL;VALUE=URI:https://hey.at/events/694312
END:VEVENT
END:VCALENDAR
