BEGIN:VCALENDAR
PRODID:-//eluceo/ical//2.0/EN
VERSION:2.0
CALSCALE:GREGORIAN
BEGIN:VEVENT
UID:hey.bayern.694318.6550808
DTSTAMP:20260419T172719Z
SUMMARY:Noch lange keine Lipizzaner
DTSTART;TZID=Europe/Berlin:20260506T173000
DTEND;TZID=Europe/Berlin:20260506T200000
LOCATION:Altenberger Straße 69\, 4040 Linz\, Österreich
GEO:48.337538;14.322848
X-APPLE-STRUCTURED-LOCATION;VALUE=URI;X-ADDRESS=Altenberger Straße 69\, 40
 40 Linz\, Österreich;X-APPLE-RADIUS=49;X-TITLE=:geo:48.337538,14.322848
URL;VALUE=URI:https://hey.at/events/694318
END:VEVENT
END:VCALENDAR
