BEGIN:VCALENDAR
PRODID:-//eluceo/ical//2.0/EN
VERSION:2.0
CALSCALE:GREGORIAN
BEGIN:VEVENT
UID:hey.bayern.694327.6550822
DTSTAMP:20260419T160735Z
SUMMARY:Reinis Talk: G'sund bleiben – g'sund werden
DTSTART;TZID=Europe/Berlin:20260429T190000
DTEND;TZID=Europe/Berlin:20260429T235900
LOCATION:Salzburger Str. 2\, 5280 Braunau am Inn\, Österreich
GEO:48.255362;13.035802
X-APPLE-STRUCTURED-LOCATION;VALUE=URI;X-ADDRESS=Salzburger Str. 2\, 5280 Br
 aunau am Inn\, Österreich;X-APPLE-RADIUS=49;X-TITLE=:geo:48.255362,13.035
 802
URL;VALUE=URI:https://hey.at/events/694327
END:VEVENT
END:VCALENDAR
