BEGIN:VCALENDAR
PRODID:-//eluceo/ical//2.0/EN
VERSION:2.0
CALSCALE:GREGORIAN
BEGIN:VEVENT
UID:hey.bayern.694338.6550866
DTSTAMP:20260420T015811Z
SUMMARY:Sommerkino
DTSTART;TZID=Europe/Berlin:20260709T200000
DTEND;TZID=Europe/Berlin:20260709T235959
LOCATION:Markt 27\, 5570 Mauterndorf\, Österreich
URL;VALUE=URI:https://hey.at/events/694338
END:VEVENT
END:VCALENDAR
