BEGIN:VCALENDAR
PRODID:-//eluceo/ical//2.0/EN
VERSION:2.0
CALSCALE:GREGORIAN
BEGIN:VEVENT
UID:hey.bayern.694353.6550917
DTSTAMP:20260419T153559Z
SUMMARY:Surfer Joe | Dj Redlips
DTSTART;TZID=Europe/Berlin:20260508T210000
DTEND;TZID=Europe/Berlin:20260508T235959
LOCATION:Gaswerkgasse 2\, 4400 Steyr\, Österreich
GEO:48.039005;14.419128
X-APPLE-STRUCTURED-LOCATION;VALUE=URI;X-ADDRESS=Gaswerkgasse 2\, 4400 Steyr
 \, Österreich;X-APPLE-RADIUS=49;X-TITLE=:geo:48.039005,14.419128
URL;VALUE=URI:https://hey.at/events/694353
END:VEVENT
END:VCALENDAR
