BEGIN:VCALENDAR
PRODID:-//eluceo/ical//2.0/EN
VERSION:2.0
CALSCALE:GREGORIAN
BEGIN:VEVENT
UID:hey.bayern.694364.6550987
DTSTAMP:20260419T151323Z
SUMMARY:Traditionelles Backen im Holzbackofen
DTSTART;TZID=Europe/Berlin:20260711T100000
DTEND;TZID=Europe/Berlin:20260711T160000
LOCATION:Esterhazygasse\, 7361 Strebersdorf\, Österreich
GEO:47.458583;16.619352
X-APPLE-STRUCTURED-LOCATION;VALUE=URI;X-ADDRESS=Esterhazygasse\, 7361 Streb
 ersdorf\, Österreich;X-APPLE-RADIUS=49;X-TITLE=:geo:47.458583,16.619352
URL;VALUE=URI:https://hey.at/events/694364
END:VEVENT
END:VCALENDAR
