BEGIN:VCALENDAR
PRODID:-//eluceo/ical//2.0/EN
VERSION:2.0
CALSCALE:GREGORIAN
BEGIN:VEVENT
UID:hey.bayern.694381.6551113
DTSTAMP:20260419T201752Z
SUMMARY:YOGA Workshopreihe innere.natur.erleben. Mai
DTSTART;TZID=Europe/Berlin:20260522T000000
DTEND;TZID=Europe/Berlin:20260523T000000
LOCATION:Techendorf 78\, 9762 Weißensee\, Österreich
URL;VALUE=URI:https://hey.at/events/694381
END:VEVENT
END:VCALENDAR
