BEGIN:VCALENDAR
PRODID:-//eluceo/ical//2.0/EN
VERSION:2.0
CALSCALE:GREGORIAN
BEGIN:VEVENT
UID:hey.bayern.694393.6551154
DTSTAMP:20260419T153559Z
SUMMARY:3CON "Wings for Life World Run 2026"mit anschließender After-Run-P
 arty
DTSTART;TZID=Europe/Berlin:20260510T120000
DTEND;TZID=Europe/Berlin:20260510T235900
LOCATION:6341 Ebbs\, Österreich
URL;VALUE=URI:https://hey.at/events/694393
END:VEVENT
END:VCALENDAR
