BEGIN:VCALENDAR
PRODID:-//eluceo/ical//2.0/EN
VERSION:2.0
CALSCALE:GREGORIAN
BEGIN:VEVENT
UID:hey.bayern.694394.6551155
DTSTAMP:20260419T172718Z
SUMMARY:Abendschule für Erwachsene
DTSTART;TZID=Europe/Berlin:20260901T000000
DTEND;TZID=Europe/Berlin:20260901T235959
LOCATION:Mühlenweg 6\, 4442 St. Ulrich bei Steyr\, Österreich
GEO:48.021761;14.423692
X-APPLE-STRUCTURED-LOCATION;VALUE=URI;X-ADDRESS=Mühlenweg 6\, 4442 St. Ulr
 ich bei Steyr\, Österreich;X-APPLE-RADIUS=49;X-TITLE=:geo:48.021761,14.42
 3692
URL;VALUE=URI:https://hey.at/events/694394
END:VEVENT
END:VCALENDAR
