BEGIN:VCALENDAR
PRODID:-//eluceo/ical//2.0/EN
VERSION:2.0
CALSCALE:GREGORIAN
BEGIN:VEVENT
UID:hey.bayern.694398.6551190
DTSTAMP:20260419T164429Z
SUMMARY:Ausstellung "Achensee trifft Tegernsee"
DTSTART;TZID=Europe/Berlin:20260523T160000
DTEND;TZID=Europe/Berlin:20260523T190000
LOCATION:6215 Achenkirch\, Österreich
GEO:47.526850;11.706900
X-APPLE-STRUCTURED-LOCATION;VALUE=URI;X-ADDRESS=6215 Achenkirch\, Österrei
 ch;X-APPLE-RADIUS=49;X-TITLE=:geo:47.526850,11.706900
URL;VALUE=URI:https://hey.at/events/694398
END:VEVENT
END:VCALENDAR
