BEGIN:VCALENDAR
PRODID:-//eluceo/ical//2.0/EN
VERSION:2.0
CALSCALE:GREGORIAN
BEGIN:VEVENT
UID:hey.bayern.694400.6551208
DTSTAMP:20260419T232457Z
SUMMARY:Ausstellung Bildender Kunst: Entgrenzte Wahrnehmung „Tabu – Kö
 rper – Bild“
DTSTART;TZID=Europe/Berlin:20260801T160000
DTEND;TZID=Europe/Berlin:20260801T190000
LOCATION:Drautalstraße 5\, 9710 Paternion\, Österreich
URL;VALUE=URI:https://hey.at/events/694400
END:VEVENT
END:VCALENDAR
