BEGIN:VCALENDAR
PRODID:-//eluceo/ical//2.0/EN
VERSION:2.0
CALSCALE:GREGORIAN
BEGIN:VEVENT
UID:hey.bayern.694405.6551225
DTSTAMP:20260419T185432Z
SUMMARY:Barbara Blaha: Funkenschwestern
DTSTART;TZID=Europe/Berlin:20261125T193000
DTEND;TZID=Europe/Berlin:20261125T235900
LOCATION:Volksgartenstraße 40\, 4020 Linz\, Österreich
GEO:48.294241;14.290954
X-APPLE-STRUCTURED-LOCATION;VALUE=URI;X-ADDRESS=Volksgartenstraße 40\, 402
 0 Linz\, Österreich;X-APPLE-RADIUS=49;X-TITLE=:geo:48.294241,14.290954
URL;VALUE=URI:https://hey.at/events/694405
END:VEVENT
END:VCALENDAR
