BEGIN:VCALENDAR
PRODID:-//eluceo/ical//2.0/EN
VERSION:2.0
CALSCALE:GREGORIAN
BEGIN:VEVENT
UID:hey.bayern.694408.6551236
DTSTAMP:20260419T153525Z
SUMMARY:Berg-Andacht & Almfest
DTSTART;TZID=Europe/Berlin:20260607T110000
DTEND;TZID=Europe/Berlin:20260607T235900
LOCATION:6320 Angerberg\, Österreich
GEO:47.533290;12.018800
X-APPLE-STRUCTURED-LOCATION;VALUE=URI;X-ADDRESS=6320 Angerberg\, Österreic
 h;X-APPLE-RADIUS=49;X-TITLE=:geo:47.533290,12.018800
URL;VALUE=URI:https://hey.at/events/694408
END:VEVENT
END:VCALENDAR
