BEGIN:VCALENDAR
PRODID:-//eluceo/ical//2.0/EN
VERSION:2.0
CALSCALE:GREGORIAN
BEGIN:VEVENT
UID:hey.bayern.694409.6551238
DTSTAMP:20260420T025454Z
SUMMARY:Besser wie nix
DTSTART;TZID=Europe/Berlin:20260912T193000
DTEND;TZID=Europe/Berlin:20260913T193000
LOCATION:Heunburg 1\, 9111 Haimburg\, Österreich
GEO:46.692624;14.670020
X-APPLE-STRUCTURED-LOCATION;VALUE=URI;X-ADDRESS=Heunburg 1\, 9111 Haimburg\
 , Österreich;X-APPLE-RADIUS=49;X-TITLE=:geo:46.692624,14.670020
URL;VALUE=URI:https://hey.at/events/694409
END:VEVENT
END:VCALENDAR
