BEGIN:VCALENDAR
PRODID:-//eluceo/ical//2.0/EN
VERSION:2.0
CALSCALE:GREGORIAN
BEGIN:VEVENT
UID:hey.bayern.694411.6551266
DTSTAMP:20260419T232534Z
SUMMARY:Christine Lavant und Werner Berg
DTSTART;TZID=Europe/Berlin:20260612T200000
DTEND;TZID=Europe/Berlin:20260613T200000
LOCATION:Heunburg 1\, 9111 Haimburg\, Österreich
GEO:46.692637;14.670089
X-APPLE-STRUCTURED-LOCATION;VALUE=URI;X-ADDRESS=Heunburg 1\, 9111 Haimburg\
 , Österreich;X-APPLE-RADIUS=49;X-TITLE=:geo:46.692637,14.670089
URL;VALUE=URI:https://hey.at/events/694411
END:VEVENT
END:VCALENDAR
