BEGIN:VCALENDAR
PRODID:-//eluceo/ical//2.0/EN
VERSION:2.0
CALSCALE:GREGORIAN
BEGIN:VEVENT
UID:hey.bayern.694424.6551325
DTSTAMP:20260419T121530Z
SUMMARY:Fahrtechniktraining für Anfänger
DTSTART;TZID=Europe/Berlin:20260805T090000
DTEND;TZID=Europe/Berlin:20260805T120000
LOCATION:6311 Wildschönau\, Österreich
URL;VALUE=URI:https://hey.at/events/694424
END:VEVENT
END:VCALENDAR
