BEGIN:VCALENDAR
PRODID:-//eluceo/ical//2.0/EN
VERSION:2.0
CALSCALE:GREGORIAN
BEGIN:VEVENT
UID:hey.bayern.694430.6551457
DTSTAMP:20260419T233647Z
SUMMARY:Franz Grillparzer: Die Ahnfrau
DTSTART;TZID=Europe/Berlin:20260717T200000
DTEND;TZID=Europe/Berlin:20260718T200000
LOCATION:Heunburg 1\, 9111 Haimburg\, Österreich
GEO:46.692580;14.670068
X-APPLE-STRUCTURED-LOCATION;VALUE=URI;X-ADDRESS=Heunburg 1\, 9111 Haimburg\
 , Österreich;X-APPLE-RADIUS=49;X-TITLE=:geo:46.692580,14.670068
URL;VALUE=URI:https://hey.at/events/694430
END:VEVENT
END:VCALENDAR
