BEGIN:VCALENDAR
PRODID:-//eluceo/ical//2.0/EN
VERSION:2.0
CALSCALE:GREGORIAN
BEGIN:VEVENT
UID:hey.bayern.694448.6551715
DTSTAMP:20260419T131922Z
SUMMARY:Jugendworkshop der 13. Musiktage Hundsmarktmühle
DTSTART;TZID=Europe/Berlin:20260620T150000
DTEND;TZID=Europe/Berlin:20260620T235959
LOCATION:Seestraße 20\, 5303 Thalgau\, Österreich
URL;VALUE=URI:https://hey.at/events/694448
END:VEVENT
END:VCALENDAR
