BEGIN:VCALENDAR
PRODID:-//eluceo/ical//2.0/EN
VERSION:2.0
CALSCALE:GREGORIAN
BEGIN:VEVENT
UID:hey.bayern.694464.6552009
DTSTAMP:20260419T201731Z
SUMMARY:Kräuterspaziergang
DTSTART;TZID=Europe/Berlin:20260425T133000
DTEND;TZID=Europe/Berlin:20260426T133000
LOCATION:Gundersheim 66\, 9634 Kirchbach\, Österreich
URL;VALUE=URI:https://hey.at/events/694464
END:VEVENT
END:VCALENDAR
