BEGIN:VCALENDAR
PRODID:-//eluceo/ical//2.0/EN
VERSION:2.0
CALSCALE:GREGORIAN
BEGIN:VEVENT
UID:hey.bayern.694465.6552029
DTSTAMP:20260419T153447Z
SUMMARY:Kulturfest
DTSTART;TZID=Europe/Berlin:20260501T100000
DTEND;TZID=Europe/Berlin:20260501T235900
LOCATION:6341 Ebbs\, Österreich
URL;VALUE=URI:https://hey.at/events/694465
END:VEVENT
END:VCALENDAR
