BEGIN:VCALENDAR
PRODID:-//eluceo/ical//2.0/EN
VERSION:2.0
CALSCALE:GREGORIAN
BEGIN:VEVENT
UID:hey.bayern.694469.6552037
DTSTAMP:20260419T153446Z
SUMMARY:Light Them Up 4
DTSTART;TZID=Europe/Berlin:20260515T200000
DTEND;TZID=Europe/Berlin:20260515T235900
LOCATION:6330 Kufstein\, Österreich
URL;VALUE=URI:https://hey.at/events/694469
END:VEVENT
END:VCALENDAR
