BEGIN:VCALENDAR
PRODID:-//eluceo/ical//2.0/EN
VERSION:2.0
CALSCALE:GREGORIAN
BEGIN:VEVENT
UID:hey.bayern.694481.6552069
DTSTAMP:20260419T164352Z
SUMMARY:Maibaumaufstellen
DTSTART;TZID=Europe/Berlin:20260430T180000
DTEND;TZID=Europe/Berlin:20260430T235900
LOCATION:6215 Steinberg am Rofan\, Österreich
GEO:47.514130;11.801320
X-APPLE-STRUCTURED-LOCATION;VALUE=URI;X-ADDRESS=6215 Steinberg am Rofan\, 
 Österreich;X-APPLE-RADIUS=49;X-TITLE=:geo:47.514130,11.801320
URL;VALUE=URI:https://hey.at/events/694481
END:VEVENT
END:VCALENDAR
