BEGIN:VCALENDAR
PRODID:-//eluceo/ical//2.0/EN
VERSION:2.0
CALSCALE:GREGORIAN
BEGIN:VEVENT
UID:hey.bayern.694486.6552075
DTSTAMP:20260419T131922Z
SUMMARY:Matinée `Seelenmaskerade´
DTSTART;TZID=Europe/Berlin:20260621T110000
DTEND;TZID=Europe/Berlin:20260621T235959
LOCATION:Seestraße 20\, 5303 Thalgau\, Österreich
URL;VALUE=URI:https://hey.at/events/694486
END:VEVENT
END:VCALENDAR
