BEGIN:VCALENDAR
PRODID:-//eluceo/ical//2.0/EN
VERSION:2.0
CALSCALE:GREGORIAN
BEGIN:VEVENT
UID:hey.bayern.694489.6552099
DTSTAMP:20260419T151250Z
SUMMARY:Musikanten-Frühschoppen
DTSTART;TZID=Europe/Berlin:20260823T100000
DTEND;TZID=Europe/Berlin:20260823T235959
LOCATION:Fichtengasse 494\, 5582 St. Michael im Lungau\, Österreich
GEO:47.100562;13.652559
X-APPLE-STRUCTURED-LOCATION;VALUE=URI;X-ADDRESS=Fichtengasse 494\, 5582 St.
  Michael im Lungau\, Österreich;X-APPLE-RADIUS=49;X-TITLE=:geo:47.100562,
 13.652559
URL;VALUE=URI:https://hey.at/events/694489
END:VEVENT
END:VCALENDAR
