BEGIN:VCALENDAR
PRODID:-//eluceo/ical//2.0/EN
VERSION:2.0
CALSCALE:GREGORIAN
BEGIN:VEVENT
UID:hey.bayern.694491.6552101
DTSTAMP:20260419T153421Z
SUMMARY:Musiksommer Neustift: Chorkonzert Happy Voices
DTSTART;TZID=Europe/Berlin:20260707T203000
DTEND;TZID=Europe/Berlin:20260707T213000
LOCATION:6167 Neustift im Stubaital\, Österreich
URL;VALUE=URI:https://hey.at/events/694491
END:VEVENT
END:VCALENDAR
