BEGIN:VCALENDAR
PRODID:-//eluceo/ical//2.0/EN
VERSION:2.0
CALSCALE:GREGORIAN
BEGIN:VEVENT
UID:hey.bayern.694495.6552125
DTSTAMP:20260420T045947Z
SUMMARY:Pfarrwerfner Tennis Ortsmeisterschaft
DTSTART;TZID=Europe/Berlin:20260702T000000
DTEND;TZID=Europe/Berlin:20260702T235959
LOCATION:Dorfwerfen 153\, 5452 Pfarrwerfen\, Österreich
URL;VALUE=URI:https://hey.at/events/694495
END:VEVENT
END:VCALENDAR
