BEGIN:VCALENDAR
PRODID:-//eluceo/ical//2.0/EN
VERSION:2.0
CALSCALE:GREGORIAN
BEGIN:VEVENT
UID:hey.bayern.694514.6552552
DTSTAMP:20260419T153521Z
SUMMARY:Stars of Tomorrow Tanz-Gala von US-amerikanischen und Tiroler Jugen
 d-Kompanien
DTSTART;TZID=Europe/Berlin:20260630T193000
DTEND;TZID=Europe/Berlin:20260630T213000
LOCATION:6020 Innsbruck\, Österreich
URL;VALUE=URI:https://hey.at/events/694514
END:VEVENT
END:VCALENDAR
