BEGIN:VCALENDAR
PRODID:-//eluceo/ical//2.0/EN
VERSION:2.0
CALSCALE:GREGORIAN
BEGIN:VEVENT
UID:hey.bayern.694519.6552592
DTSTAMP:20260419T201758Z
SUMMARY:Theaterwagen Porcia 2026
DTSTART;TZID=Europe/Berlin:20260602T170000
DTEND;TZID=Europe/Berlin:20260603T170000
LOCATION:Hauptplatz 8\, 9873 Döbriach\, Österreich
GEO:46.773827;13.643717
X-APPLE-STRUCTURED-LOCATION;VALUE=URI;X-ADDRESS=Hauptplatz 8\, 9873 Döbria
 ch\, Österreich;X-APPLE-RADIUS=49;X-TITLE=:geo:46.773827,13.643717
URL;VALUE=URI:https://hey.at/events/694519
END:VEVENT
END:VCALENDAR
