BEGIN:VCALENDAR
PRODID:-//eluceo/ical//2.0/EN
VERSION:2.0
CALSCALE:GREGORIAN
BEGIN:VEVENT
UID:hey.bayern.694538.6552763
DTSTAMP:20260420T005632Z
SUMMARY:Alpe Adria Woche
DTSTART;TZID=Europe/Berlin:20260724T180000
DTEND;TZID=Europe/Berlin:20260725T180000
LOCATION:Gundisch Nord 36\, 9423 St. Georgen im Lavanttal\, Österreich
GEO:46.723689;14.968402
X-APPLE-STRUCTURED-LOCATION;VALUE=URI;X-ADDRESS=Gundisch Nord 36\, 9423 St.
  Georgen im Lavanttal\, Österreich;X-APPLE-RADIUS=49;X-TITLE=:geo:46.7236
 89,14.968402
URL;VALUE=URI:https://hey.at/events/694538
END:VEVENT
END:VCALENDAR
