BEGIN:VCALENDAR
PRODID:-//eluceo/ical//2.0/EN
VERSION:2.0
CALSCALE:GREGORIAN
BEGIN:VEVENT
UID:hey.bayern.694539.6552767
DTSTAMP:20260421T111847Z
SUMMARY:Altstadt Märchenzeit: Der Werkelmann kommt
DTSTART;TZID=Europe/Berlin:20260807T160000
DTEND;TZID=Europe/Berlin:20260807T235900
LOCATION:Altstadt\, 4020 Linz\, Österreich
GEO:48.305118;14.284422
X-APPLE-STRUCTURED-LOCATION;VALUE=URI;X-ADDRESS=Altstadt\, 4020 Linz\, Öst
 erreich;X-APPLE-RADIUS=49;X-TITLE=:geo:48.305118,14.284422
URL;VALUE=URI:https://hey.at/events/694539
END:VEVENT
END:VCALENDAR
