BEGIN:VCALENDAR
PRODID:-//eluceo/ical//2.0/EN
VERSION:2.0
CALSCALE:GREGORIAN
BEGIN:VEVENT
UID:hey.bayern.694546.6552944
DTSTAMP:20260420T005556Z
SUMMARY:David meets friends – Carinthian Tapas | Parkhotel Pörtschach
DTSTART;TZID=Europe/Berlin:20261015T170000
DTEND;TZID=Europe/Berlin:20261015T200000
LOCATION:Hans Pruscha Weg 5\, 9210 Pörtschach am Wörther See\, Österreic
 h
URL;VALUE=URI:https://hey.at/events/694546
END:VEVENT
END:VCALENDAR
