BEGIN:VCALENDAR
PRODID:-//eluceo/ical//2.0/EN
VERSION:2.0
CALSCALE:GREGORIAN
BEGIN:VEVENT
UID:hey.bayern.694558.6553016
DTSTAMP:20260420T005728Z
SUMMARY:Italienische Gala mit Paolo Rumetz und Sabina Arru
DTSTART;TZID=Europe/Berlin:20260822T202000
DTEND;TZID=Europe/Berlin:20260823T202000
LOCATION:Amthofgasse 5\, 9062 Feldkirchen in Kärnten\, Österreich
GEO:46.722464;14.092530
X-APPLE-STRUCTURED-LOCATION;VALUE=URI;X-ADDRESS=Amthofgasse 5\, 9062 Feldki
 rchen in Kärnten\, Österreich;X-APPLE-RADIUS=49;X-TITLE=:geo:46.722464,1
 4.092530
URL;VALUE=URI:https://hey.at/events/694558
END:VEVENT
END:VCALENDAR
