BEGIN:VCALENDAR
PRODID:-//eluceo/ical//2.0/EN
VERSION:2.0
CALSCALE:GREGORIAN
BEGIN:VEVENT
UID:hey.bayern.694559.6553017
DTSTAMP:20260420T005633Z
SUMMARY:Jubiläumsabend der Dorfgemeinschaft Altersberg
DTSTART;TZID=Europe/Berlin:20260509T193000
DTEND;TZID=Europe/Berlin:20260509T213000
URL;VALUE=URI:https://hey.at/events/694559
END:VEVENT
END:VCALENDAR
