BEGIN:VCALENDAR
PRODID:-//eluceo/ical//2.0/EN
VERSION:2.0
CALSCALE:GREGORIAN
BEGIN:VEVENT
UID:hey.bayern.694564.6553033
DTSTAMP:20260420T005556Z
SUMMARY:Kochen ohne Strom 8.0 | Stern.Berg Messnerei
DTSTART;TZID=Europe/Berlin:20260918T180000
DTEND;TZID=Europe/Berlin:20260919T180000
LOCATION:Sternberger Straße 19\, 9241 Wernberg\, Österreich
URL;VALUE=URI:https://hey.at/events/694564
END:VEVENT
END:VCALENDAR
